BEGIN:VCALENDAR
VERSION:2.0
PRODID:-//Squarespace Inc/Squarespace 6//v6//EN
BEGIN:VEVENT
UID:566db7baa12f444cd6dd3024@squarespace.com
DTSTAMP:20151216T182423Z
DTSTART:20160117T140000Z
DTEND:20160117T170000Z
SUMMARY:Active Games Day
END:VEVENT
END:VCALENDAR
