BEGIN:VCALENDAR
VERSION:2.0
PRODID:-//Squarespace Inc/Squarespace 6//v6//EN
BEGIN:VEVENT
UID:56675cb125981d4412e07f4a@squarespace.com
DTSTAMP:20151208T224504Z
DTSTART:20151219T190000Z
DTEND:20151219T220000Z
SUMMARY:Christmas Party
GEO:-33.841774;151.205813
LOCATION:Commodore Hotel\, Blues Point Road\, North Sydney\, Australia
END:VEVENT
END:VCALENDAR
